BEGIN:VCALENDAR
VERSION:2.0
CALSCALE:GREGORIAN
PRODID:UnionActive
BEGIN:VEVENT
UID:11394033@teamsterslocal776.org
SUMMARY:Monthly Membership Meeting
DESCRIPTION:Contact:  \nLink for more information: http://teamsterslocal776.org/index.cfm?zone=/unionactive/view_calendar.cfm&calendarID=11394033&thisdate=06/14/2020&useCalSection=main
LOCATION:Harrisburg Union Hall
URL:http://teamsterslocal776.org/index.cfm?zone=/unionactive/view_calendar.cfm&calendarID=11394033&thisdate=06/14/2020&useCalSection=main
DTSTART:20200614T140000Z
DTEND:20200614T160000Z
DTSTAMP:20240304T134035
TRIGGER:-PT60M
END:VEVENT
END:VCALENDAR
