BEGIN:VCALENDAR
VERSION:2.0
CALSCALE:GREGORIAN
PRODID:UnionActive
BEGIN:VEVENT
UID:11285133@teamsterslocal776.org
SUMMARY:Local 776 Golf Tournament
DESCRIPTION:Contact:  \nLink for more information: http://teamsterslocal776.org/index.cfm?zone=/unionactive/view_calendar.cfm&calendarID=11285133&thisdate=08/02/2020&useCalSection=main
LOCATION:Eagles Crossing Golf Course
URL:http://teamsterslocal776.org/index.cfm?zone=/unionactive/view_calendar.cfm&calendarID=11285133&thisdate=08/02/2020&useCalSection=main
DTSTART:20200802T104500Z
DTEND:20200802T104500Z
DTSTAMP:20240304T134052
TRIGGER:-PT60M
END:VEVENT
END:VCALENDAR
