BEGIN:VCALENDAR
VERSION:2.0
CALSCALE:GREGORIAN
PRODID:UnionActive
BEGIN:VEVENT
UID:11285121@teamsterslocal776.org
SUMMARY:Stewards Meeting
DESCRIPTION:Contact:  \nLink for more information: http://teamsterslocal776.org/index.cfm?zone=/unionactive/view_calendar.cfm&calendarID=11285121&thisdate=03/07/2020&useCalSection=main
LOCATION:Harrisburg Union Hall
URL:http://teamsterslocal776.org/index.cfm?zone=/unionactive/view_calendar.cfm&calendarID=11285121&thisdate=03/07/2020&useCalSection=main
DTSTART:20200307T150000Z
DTEND:20200307T150000Z
DTSTAMP:20240304T134053
TRIGGER:-PT60M
END:VEVENT
END:VCALENDAR
