BEGIN:VCALENDAR
VERSION:2.0
CALSCALE:GREGORIAN
PRODID:UnionActive
BEGIN:VEVENT
UID:11285120@teamsterslocal776.org
SUMMARY:UPS CPAPGC Panel
DESCRIPTION:Contact:  \nLink for more information: http://teamsterslocal776.org/index.cfm?zone=/unionactive/view_calendar.cfm&calendarID=11285120&thisdate=12/03/2020&useCalSection=main
LOCATION:
URL:http://teamsterslocal776.org/index.cfm?zone=/unionactive/view_calendar.cfm&calendarID=11285120&thisdate=12/03/2020&useCalSection=main
DTSTART:20201203T130000Z
DTEND:20201203T140000Z
DTSTAMP:20240304T134053
TRIGGER:-PT60M
END:VEVENT
END:VCALENDAR
