BEGIN:VCALENDAR
VERSION:2.0
CALSCALE:GREGORIAN
PRODID:UnionActive
BEGIN:VEVENT
UID:11285110@teamsterslocal776.org
SUMMARY:UPS CPAPGC Panel
DESCRIPTION:Contact:  \nLink for more information: http://teamsterslocal776.org/index.cfm?zone=/unionactive/view_calendar.cfm&calendarID=11285110&thisdate=02/06/2020&useCalSection=main
LOCATION:
URL:http://teamsterslocal776.org/index.cfm?zone=/unionactive/view_calendar.cfm&calendarID=11285110&thisdate=02/06/2020&useCalSection=main
DTSTART:20200206T140000Z
DTEND:20200206T140000Z
DTSTAMP:20240304T134052
TRIGGER:-PT60M
END:VEVENT
END:VCALENDAR
