BEGIN:VCALENDAR
VERSION:2.0
CALSCALE:GREGORIAN
PRODID:UnionActive
BEGIN:VEVENT
UID:11284965@teamsterslocal776.org
SUMMARY:Eastern Region Joint Area Committee
DESCRIPTION:Contact:  \nLink for more information: http://teamsterslocal776.org/index.cfm?zone=/unionactive/view_calendar.cfm&calendarID=11284965&thisdate=10/26/2020&useCalSection=main
LOCATION:
URL:http://teamsterslocal776.org/index.cfm?zone=/unionactive/view_calendar.cfm&calendarID=11284965&thisdate=10/26/2020&useCalSection=main
DTSTART:20201026T130000Z
DTEND:20201028T130000Z
DTSTAMP:20240304T134051
TRIGGER:-PT60M
END:VEVENT
END:VCALENDAR
