BEGIN:VCALENDAR
VERSION:2.0
CALSCALE:GREGORIAN
PRODID:UnionActive
BEGIN:VEVENT
UID:11278421@teamsterslocal776.org
SUMMARY:UPS Freight Eastern Region Grievance Committee
DESCRIPTION:Contact:  \nLink for more information: http://teamsterslocal776.org/index.cfm?zone=/unionactive/view_calendar.cfm&calendarID=11278421&thisdate=09/15/2020&useCalSection=main
LOCATION:
URL:http://teamsterslocal776.org/index.cfm?zone=/unionactive/view_calendar.cfm&calendarID=11278421&thisdate=09/15/2020&useCalSection=main
DTSTART:20200915T130000Z
DTEND:20200917T130000Z
DTSTAMP:20240304T134052
TRIGGER:-PT60M
END:VEVENT
END:VCALENDAR
