BEGIN:VCALENDAR
VERSION:2.0
CALSCALE:GREGORIAN
PRODID:UnionActive
BEGIN:VEVENT
UID:11278419@teamsterslocal776.org
SUMMARY:UPS Freight Eastern Region Grievance Committee
DESCRIPTION:Contact:  \nLink for more information: http://teamsterslocal776.org/index.cfm?zone=/unionactive/view_calendar.cfm&calendarID=11278419&thisdate=07/14/2020&useCalSection=main
LOCATION:
URL:http://teamsterslocal776.org/index.cfm?zone=/unionactive/view_calendar.cfm&calendarID=11278419&thisdate=07/14/2020&useCalSection=main
DTSTART:20200714T130000Z
DTEND:20200716T130000Z
DTSTAMP:20240304T134053
TRIGGER:-PT60M
END:VEVENT
END:VCALENDAR
