BEGIN:VCALENDAR
VERSION:2.0
CALSCALE:GREGORIAN
PRODID:UnionActive
BEGIN:VEVENT
UID:11278415@teamsterslocal776.org
SUMMARY:Central PA Joint Area Committee
DESCRIPTION:Contact:  \nLink for more information: http://teamsterslocal776.org/index.cfm?zone=/unionactive/view_calendar.cfm&calendarID=11278415&thisdate=11/04/2020&useCalSection=main
LOCATION:
URL:http://teamsterslocal776.org/index.cfm?zone=/unionactive/view_calendar.cfm&calendarID=11278415&thisdate=11/04/2020&useCalSection=main
DTSTART:20201104T140000Z
DTEND:20201104T140000Z
DTSTAMP:20240304T134050
TRIGGER:-PT60M
END:VEVENT
END:VCALENDAR
