BEGIN:VCALENDAR
VERSION:2.0
CALSCALE:GREGORIAN
PRODID:UnionActive
BEGIN:VEVENT
UID:11278406@teamsterslocal776.org
SUMMARY:Monthly Membership Meeting
DESCRIPTION:Contact:  \nLink for more information: http://teamsterslocal776.org/index.cfm?zone=/unionactive/view_calendar.cfm&calendarID=11278406&thisdate=03/08/2020&useCalSection=main
LOCATION:Harrisburg Union Hall
URL:http://teamsterslocal776.org/index.cfm?zone=/unionactive/view_calendar.cfm&calendarID=11278406&thisdate=03/08/2020&useCalSection=main
DTSTART:20200308T140000Z
DTEND:20200308T140000Z
DTSTAMP:20240304T134053
TRIGGER:-PT60M
END:VEVENT
END:VCALENDAR
