BEGIN:VCALENDAR
VERSION:2.0
CALSCALE:GREGORIAN
PRODID:UnionActive
BEGIN:VEVENT
UID:10709881@teamsterslocal776.org
SUMMARY:UPS Freight Eastern Region Grievance Committee Meeting
DESCRIPTION:Contact:  \nLink for more information: http://teamsterslocal776.org/index.cfm?zone=/unionactive/view_calendar.cfm&calendarID=10709881&thisdate=12/10/2019&useCalSection=main
LOCATION:
URL:http://teamsterslocal776.org/index.cfm?zone=/unionactive/view_calendar.cfm&calendarID=10709881&thisdate=12/10/2019&useCalSection=main
DTSTART:20191210T140000Z
DTEND:20191212T140000Z
DTSTAMP:20240304T134240
TRIGGER:-PT60M
END:VEVENT
END:VCALENDAR
