BEGIN:VCALENDAR
VERSION:2.0
CALSCALE:GREGORIAN
PRODID:UnionActive
BEGIN:VEVENT
UID:10709880@teamsterslocal776.org
SUMMARY:UPS Freight Eastern Region Grievance Committee Meeting
DESCRIPTION:Contact:  \nLink for more information: http://teamsterslocal776.org/index.cfm?zone=/unionactive/view_calendar.cfm&calendarID=10709880&thisdate=09/17/2019&useCalSection=main
LOCATION:
URL:http://teamsterslocal776.org/index.cfm?zone=/unionactive/view_calendar.cfm&calendarID=10709880&thisdate=09/17/2019&useCalSection=main
DTSTART:20190917T120000Z
DTEND:20190919T130000Z
DTSTAMP:20240304T134253
TRIGGER:-PT60M
END:VEVENT
END:VCALENDAR
