BEGIN:VCALENDAR
VERSION:2.0
CALSCALE:GREGORIAN
PRODID:UnionActive
BEGIN:VEVENT
UID:10655231@teamsterslocal776.org
SUMMARY:UPS/UPSF National Grievance Committee Meeting
DESCRIPTION:Contact:  \nLink for more information: http://teamsterslocal776.org/index.cfm?zone=/unionactive/view_calendar.cfm&calendarID=10655231&thisdate=06/02/2019&useCalSection=main
LOCATION:
URL:http://teamsterslocal776.org/index.cfm?zone=/unionactive/view_calendar.cfm&calendarID=10655231&thisdate=06/02/2019&useCalSection=main
DTSTART:20190602T120000Z
DTEND:20190607T120000Z
DTSTAMP:20240304T134252
TRIGGER:-PT60M
END:VEVENT
END:VCALENDAR
