BEGIN:VCALENDAR
VERSION:2.0
CALSCALE:GREGORIAN
PRODID:UnionActive
BEGIN:VEVENT
UID:10655227@teamsterslocal776.org
SUMMARY:Eastern Region Joint Area Committee Meeting
DESCRIPTION:Contact:  \nLink for more information: http://teamsterslocal776.org/index.cfm?zone=/unionactive/view_calendar.cfm&calendarID=10655227&thisdate=04/22/2019&useCalSection=main
LOCATION:
URL:http://teamsterslocal776.org/index.cfm?zone=/unionactive/view_calendar.cfm&calendarID=10655227&thisdate=04/22/2019&useCalSection=main
DTSTART:20190422T120000Z
DTEND:20190424T120000Z
DTSTAMP:20240304T134238
TRIGGER:-PT60M
END:VEVENT
END:VCALENDAR
