BEGIN:VCALENDAR
VERSION:2.0
CALSCALE:GREGORIAN
PRODID:UnionActive
BEGIN:VEVENT
UID:10655225@teamsterslocal776.org
SUMMARY:Children's Christmas Party
DESCRIPTION:Contact:  \nLink for more information: http://teamsterslocal776.org/index.cfm?zone=/unionactive/view_calendar.cfm&calendarID=10655225&thisdate=12/07/2019&useCalSection=main
LOCATION:Harrisburg Union Hall
URL:http://teamsterslocal776.org/index.cfm?zone=/unionactive/view_calendar.cfm&calendarID=10655225&thisdate=12/07/2019&useCalSection=main
DTSTART:20191207T150000Z
DTEND:20191207T190000Z
DTSTAMP:20240304T134253
TRIGGER:-PT60M
END:VEVENT
END:VCALENDAR
