BEGIN:VCALENDAR
VERSION:2.0
CALSCALE:GREGORIAN
PRODID:UnionActive
BEGIN:VEVENT
UID:10655224@teamsterslocal776.org
SUMMARY:Local 776 Golf Outing
DESCRIPTION:Contact:  \nLink for more information: http://teamsterslocal776.org/index.cfm?zone=/unionactive/view_calendar.cfm&calendarID=10655224&thisdate=08/04/2019&useCalSection=main
LOCATION:Eagles Crossing Golf Course
URL:http://teamsterslocal776.org/index.cfm?zone=/unionactive/view_calendar.cfm&calendarID=10655224&thisdate=08/04/2019&useCalSection=main
DTSTART:20190804T120000Z
DTEND:20190804T120000Z
DTSTAMP:20240304T134253
TRIGGER:-PT60M
END:VEVENT
END:VCALENDAR
