BEGIN:VCALENDAR
VERSION:2.0
CALSCALE:GREGORIAN
PRODID:UnionActive
BEGIN:VEVENT
UID:10655223@teamsterslocal776.org
SUMMARY:Membership Family Picnic
DESCRIPTION:Contact:  \nLink for more information: http://teamsterslocal776.org/index.cfm?zone=/unionactive/view_calendar.cfm&calendarID=10655223&thisdate=06/09/2019&useCalSection=main
LOCATION:To Be announced
URL:http://teamsterslocal776.org/index.cfm?zone=/unionactive/view_calendar.cfm&calendarID=10655223&thisdate=06/09/2019&useCalSection=main
DTSTART:20190609T120000Z
DTEND:20190609T130000Z
DTSTAMP:20240304T134240
TRIGGER:-PT60M
END:VEVENT
END:VCALENDAR
