BEGIN:VCALENDAR
VERSION:2.0
CALSCALE:GREGORIAN
PRODID:UnionActive
BEGIN:VEVENT
UID:10655220@teamsterslocal776.org
SUMMARY:Monthly Membership Meeting
DESCRIPTION:Contact:  \nLink for more information: http://teamsterslocal776.org/index.cfm?zone=/unionactive/view_calendar.cfm&calendarID=10655220&thisdate=11/10/2019&useCalSection=main
LOCATION:Harrisburg Union Hall
URL:http://teamsterslocal776.org/index.cfm?zone=/unionactive/view_calendar.cfm&calendarID=10655220&thisdate=11/10/2019&useCalSection=main
DTSTART:20191110T150000Z
DTEND:20191110T150000Z
DTSTAMP:20240304T134238
TRIGGER:-PT60M
END:VEVENT
END:VCALENDAR
