BEGIN:VCALENDAR
VERSION:2.0
CALSCALE:GREGORIAN
PRODID:UnionActive
BEGIN:VEVENT
UID:10655216@teamsterslocal776.org
SUMMARY:Stewards Meeting
DESCRIPTION:Contact:  \nLink for more information: http://teamsterslocal776.org/index.cfm?zone=/unionactive/view_calendar.cfm&calendarID=10655216&thisdate=09/07/2019&useCalSection=main
LOCATION:Harrisburg Union Hall
URL:http://teamsterslocal776.org/index.cfm?zone=/unionactive/view_calendar.cfm&calendarID=10655216&thisdate=09/07/2019&useCalSection=main
DTSTART:20190907T140000Z
DTEND:20190907T140000Z
DTSTAMP:20240304T134253
TRIGGER:-PT60M
END:VEVENT
END:VCALENDAR
