BEGIN:VCALENDAR
VERSION:2.0
CALSCALE:GREGORIAN
PRODID:UnionActive
BEGIN:VEVENT
UID:10655212@teamsterslocal776.org
SUMMARY:Monthly Membership Meeting
DESCRIPTION:Contact:  \nLink for more information: http://teamsterslocal776.org/index.cfm?zone=/unionactive/view_calendar.cfm&calendarID=10655212&thisdate=03/10/2019&useCalSection=main
LOCATION:Harrisburg Union Hall
URL:http://teamsterslocal776.org/index.cfm?zone=/unionactive/view_calendar.cfm&calendarID=10655212&thisdate=03/10/2019&useCalSection=main
DTSTART:20190310T140000Z
DTEND:20190310T140000Z
DTSTAMP:20240304T134254
TRIGGER:-PT60M
END:VEVENT
END:VCALENDAR
