BEGIN:VCALENDAR
VERSION:2.0
CALSCALE:GREGORIAN
PRODID:UnionActive
BEGIN:VEVENT
UID:10655210@teamsterslocal776.org
SUMMARY:Monthly Membership Meeting
DESCRIPTION:Contact:  \nLink for more information: http://teamsterslocal776.org/index.cfm?zone=/unionactive/view_calendar.cfm&calendarID=10655210&thisdate=02/10/2019&useCalSection=main
LOCATION:Harrisburg Union Hall
URL:http://teamsterslocal776.org/index.cfm?zone=/unionactive/view_calendar.cfm&calendarID=10655210&thisdate=02/10/2019&useCalSection=main
DTSTART:20190210T150000Z
DTEND:20190210T150000Z
DTSTAMP:20240304T134239
TRIGGER:-PT60M
END:VEVENT
END:VCALENDAR
