BEGIN:VCALENDAR
VERSION:2.0
CALSCALE:GREGORIAN
PRODID:UnionActive
BEGIN:VEVENT
UID:10655206@teamsterslocal776.org
SUMMARY:Central PA Joint Area Committee Meeting
DESCRIPTION:Contact:  \nLink for more information: http://teamsterslocal776.org/index.cfm?zone=/unionactive/view_calendar.cfm&calendarID=10655206&thisdate=09/04/2019&useCalSection=main
LOCATION:
URL:http://teamsterslocal776.org/index.cfm?zone=/unionactive/view_calendar.cfm&calendarID=10655206&thisdate=09/04/2019&useCalSection=main
DTSTART:20190904T140000Z
DTEND:20190904T210000Z
DTSTAMP:20240304T134241
TRIGGER:-PT60M
END:VEVENT
END:VCALENDAR
