BEGIN:VCALENDAR
VERSION:2.0
CALSCALE:GREGORIAN
PRODID:UnionActive
BEGIN:VEVENT
UID:10129971@teamsterslocal776.org
SUMMARY:UPS Freight Eastern Region Grievance Committee Meeting
DESCRIPTION:Contact:  \nLink for more information: http://teamsterslocal776.org/index.cfm?zone=/unionactive/view_calendar.cfm&calendarID=10129971&thisdate=12/11/2018&useCalSection=main
LOCATION:
URL:http://teamsterslocal776.org/index.cfm?zone=/unionactive/view_calendar.cfm&calendarID=10129971&thisdate=12/11/2018&useCalSection=main
DTSTART:20181211T130000Z
DTEND:20181213T140000Z
DTSTAMP:20240304T134353
TRIGGER:-PT60M
END:VEVENT
END:VCALENDAR
