BEGIN:VCALENDAR
VERSION:2.0
CALSCALE:GREGORIAN
PRODID:UnionActive
BEGIN:VEVENT
UID:10090473@teamsterslocal776.org
SUMMARY:Local 776 Golf Outing
DESCRIPTION:Contact:  \nLink for more information: http://teamsterslocal776.org/index.cfm?zone=/unionactive/view_calendar.cfm&calendarID=10090473&thisdate=08/05/2018&useCalSection=main
LOCATION:
URL:http://teamsterslocal776.org/index.cfm?zone=/unionactive/view_calendar.cfm&calendarID=10090473&thisdate=08/05/2018&useCalSection=main
DTSTART:20180805T120000Z
DTEND:20180805T130000Z
DTSTAMP:20240304T134410
TRIGGER:-PT60M
END:VEVENT
END:VCALENDAR
