BEGIN:VCALENDAR
VERSION:2.0
CALSCALE:GREGORIAN
PRODID:UnionActive
BEGIN:VEVENT
UID:10090470@teamsterslocal776.org
SUMMARY:Monthly Membership Meeting
DESCRIPTION:Contact:  \nLink for more information: http://teamsterslocal776.org/index.cfm?zone=/unionactive/view_calendar.cfm&calendarID=10090470&thisdate=05/06/2018&useCalSection=main
LOCATION:Harrisburg Union Hall
URL:http://teamsterslocal776.org/index.cfm?zone=/unionactive/view_calendar.cfm&calendarID=10090470&thisdate=05/06/2018&useCalSection=main
DTSTART:20180506T140000Z
DTEND:20180506T150000Z
DTSTAMP:20240304T134411
TRIGGER:-PT60M
END:VEVENT
END:VCALENDAR
