BEGIN:VCALENDAR
VERSION:2.0
CALSCALE:GREGORIAN
PRODID:UnionActive
BEGIN:VEVENT
UID:10090464@teamsterslocal776.org
SUMMARY:Stewards Meeting
DESCRIPTION:Contact:  \nLink for more information: http://teamsterslocal776.org/index.cfm?zone=/unionactive/view_calendar.cfm&calendarID=10090464&thisdate=09/08/2018&useCalSection=main
LOCATION:Harrisburg Union Hall
URL:http://teamsterslocal776.org/index.cfm?zone=/unionactive/view_calendar.cfm&calendarID=10090464&thisdate=09/08/2018&useCalSection=main
DTSTART:20180908T140000Z
DTEND:20180908T150000Z
DTSTAMP:20240304T134354
TRIGGER:-PT60M
END:VEVENT
END:VCALENDAR
