BEGIN:VCALENDAR
VERSION:2.0
CALSCALE:GREGORIAN
PRODID:UnionActive
BEGIN:VEVENT
UID:10090463@teamsterslocal776.org
SUMMARY:Monthly Membership Meeting
DESCRIPTION:Contact:  \nLink for more information: http://teamsterslocal776.org/index.cfm?zone=/unionactive/view_calendar.cfm&calendarID=10090463&thisdate=01/01/2018&useCalSection=main
LOCATION:Harrisburg Union Hall
URL:http://teamsterslocal776.org/index.cfm?zone=/unionactive/view_calendar.cfm&calendarID=10090463&thisdate=01/01/2018&useCalSection=main
DTSTART:20180101T150000Z
DTEND:20180101T160000Z
DTSTAMP:20240304T134354
TRIGGER:-PT60M
END:VEVENT
END:VCALENDAR
