BEGIN:VCALENDAR
VERSION:2.0
CALSCALE:GREGORIAN
PRODID:UnionActive
BEGIN:VEVENT
UID:10090459@teamsterslocal776.org
SUMMARY:Stewards Meeting
DESCRIPTION:Contact:  \nLink for more information: http://teamsterslocal776.org/index.cfm?zone=/unionactive/view_calendar.cfm&calendarID=10090459&thisdate=03/10/2018&useCalSection=main
LOCATION:Harrisburg Union Hall
URL:http://teamsterslocal776.org/index.cfm?zone=/unionactive/view_calendar.cfm&calendarID=10090459&thisdate=03/10/2018&useCalSection=main
DTSTART:20180310T150000Z
DTEND:20180310T160000Z
DTSTAMP:20240304T134409
TRIGGER:-PT60M
END:VEVENT
END:VCALENDAR
