BEGIN:VCALENDAR
VERSION:2.0
CALSCALE:GREGORIAN
PRODID:UnionActive
BEGIN:VEVENT
UID:9973978@teamsterslocal776.org
SUMMARY:UPS/UPSF National Grievance Committee Meeting
DESCRIPTION:Contact:  \nLink for more information: http://teamsterslocal776.org/index.cfm?zone=/unionactive/view_calendar.cfm&calendarID=9973978&thisdate=06/03/2018&useCalSection=main
LOCATION:
URL:http://teamsterslocal776.org/index.cfm?zone=/unionactive/view_calendar.cfm&calendarID=9973978&thisdate=06/03/2018&useCalSection=main
DTSTART:20180603T120000Z
DTEND:20180608T130000Z
DTSTAMP:20260419T062503
TRIGGER:-PT60M
END:VEVENT
END:VCALENDAR
