BEGIN:VCALENDAR
VERSION:2.0
CALSCALE:GREGORIAN
PRODID:UnionActive
BEGIN:VEVENT
UID:9383992@teamsterslocal776.org
SUMMARY:Children's Christmas Party
DESCRIPTION:Contact:  \nLink for more information: http://teamsterslocal776.org/index.cfm?zone=/unionactive/view_calendar.cfm&calendarID=9383992&thisdate=12/09/2017&useCalSection=main
LOCATION:Harrisburg Union Hall
URL:http://teamsterslocal776.org/index.cfm?zone=/unionactive/view_calendar.cfm&calendarID=9383992&thisdate=12/09/2017&useCalSection=main
DTSTART:20171209T130000Z
DTEND:20171209T140000Z
DTSTAMP:20260419T140150
TRIGGER:-PT60M
END:VEVENT
END:VCALENDAR
