BEGIN:VCALENDAR
VERSION:2.0
CALSCALE:GREGORIAN
PRODID:UnionActive
BEGIN:VEVENT
UID:9383991@teamsterslocal776.org
SUMMARY:Local 776 Golf Outing
DESCRIPTION:Contact:  \nLink for more information: http://teamsterslocal776.org/index.cfm?zone=/unionactive/view_calendar.cfm&calendarID=9383991&thisdate=08/06/2017&useCalSection=main
LOCATION:
URL:http://teamsterslocal776.org/index.cfm?zone=/unionactive/view_calendar.cfm&calendarID=9383991&thisdate=08/06/2017&useCalSection=main
DTSTART:20170806T120000Z
DTEND:20170806T130000Z
DTSTAMP:20260419T105345
TRIGGER:-PT60M
END:VEVENT
END:VCALENDAR
