BEGIN:VCALENDAR
VERSION:2.0
CALSCALE:GREGORIAN
PRODID:UnionActive
BEGIN:VEVENT
UID:9383981@teamsterslocal776.org
SUMMARY:Stewards Meeting
DESCRIPTION:Contact:  \nLink for more information: http://teamsterslocal776.org/index.cfm?zone=/unionactive/view_calendar.cfm&calendarID=9383981&thisdate=05/06/2017&useCalSection=main
LOCATION:Harrisburg Union Hall
URL:http://teamsterslocal776.org/index.cfm?zone=/unionactive/view_calendar.cfm&calendarID=9383981&thisdate=05/06/2017&useCalSection=main
DTSTART:20170506T140000Z
DTEND:20170506T150000Z
DTSTAMP:20260419T074806
TRIGGER:-PT60M
END:VEVENT
END:VCALENDAR
