BEGIN:VCALENDAR
VERSION:2.0
CALSCALE:GREGORIAN
PRODID:UnionActive
BEGIN:VEVENT
UID:9377154@teamsterslocal776.org
SUMMARY:UPS CPAPGC Hearings
DESCRIPTION:Contact:  \nLink for more information: http://teamsterslocal776.org/index.cfm?zone=/unionactive/view_calendar.cfm&calendarID=9377154&thisdate=10/05/2017&useCalSection=main
LOCATION:
URL:http://teamsterslocal776.org/index.cfm?zone=/unionactive/view_calendar.cfm&calendarID=9377154&thisdate=10/05/2017&useCalSection=main
DTSTART:20171005T120000Z
DTEND:20171005T130000Z
DTSTAMP:20260419T164711
TRIGGER:-PT60M
END:VEVENT
END:VCALENDAR
