BEGIN:VCALENDAR
VERSION:2.0
CALSCALE:GREGORIAN
PRODID:UnionActive
BEGIN:VEVENT
UID:9377152@teamsterslocal776.org
SUMMARY:UPS CPAPGC Hearings
DESCRIPTION:Contact:  \nLink for more information: http://teamsterslocal776.org/index.cfm?zone=/unionactive/view_calendar.cfm&calendarID=9377152&thisdate=08/03/2017&useCalSection=main
LOCATION:
URL:http://teamsterslocal776.org/index.cfm?zone=/unionactive/view_calendar.cfm&calendarID=9377152&thisdate=08/03/2017&useCalSection=main
DTSTART:20170803T120000Z
DTEND:20170803T130000Z
DTSTAMP:20260419T062227
TRIGGER:-PT60M
END:VEVENT
END:VCALENDAR
