BEGIN:VCALENDAR
VERSION:2.0
CALSCALE:GREGORIAN
PRODID:UnionActive
BEGIN:VEVENT
UID:9377146@teamsterslocal776.org
SUMMARY:UPS CPAPGC Hearings
DESCRIPTION:Contact:  \nLink for more information: http://teamsterslocal776.org/index.cfm?zone=/unionactive/view_calendar.cfm&calendarID=9377146&thisdate=01/12/2017&useCalSection=main
LOCATION:
URL:http://teamsterslocal776.org/index.cfm?zone=/unionactive/view_calendar.cfm&calendarID=9377146&thisdate=01/12/2017&useCalSection=main
DTSTART:20170112T130000Z
DTEND:20170112T140000Z
DTSTAMP:20260419T152119
TRIGGER:-PT60M
END:VEVENT
END:VCALENDAR
