BEGIN:VCALENDAR
VERSION:2.0
CALSCALE:GREGORIAN
PRODID:UnionActive
BEGIN:VEVENT
UID:9338925@teamsterslocal776.org
SUMMARY:Eastern Region Joint Area Committee Meeting
DESCRIPTION:Contact:  \nLink for more information: http://teamsterslocal776.org/index.cfm?zone=/unionactive/view_calendar.cfm&calendarID=9338925&thisdate=07/24/2017&useCalSection=main
LOCATION:
URL:http://teamsterslocal776.org/index.cfm?zone=/unionactive/view_calendar.cfm&calendarID=9338925&thisdate=07/24/2017&useCalSection=main
DTSTART:20170724T120000Z
DTEND:20170726T130000Z
DTSTAMP:20260419T123457
TRIGGER:-PT60M
END:VEVENT
END:VCALENDAR
