BEGIN:VCALENDAR
VERSION:2.0
CALSCALE:GREGORIAN
PRODID:UnionActive
BEGIN:VEVENT
UID:9328000@teamsterslocal776.org
SUMMARY:Monthly Membership Meeting
DESCRIPTION:Contact:  \nLink for more information: http://teamsterslocal776.org/index.cfm?zone=/unionactive/view_calendar.cfm&calendarID=9328000&thisdate=01/08/2017&useCalSection=main
LOCATION:Harrisburg Union Hall
URL:http://teamsterslocal776.org/index.cfm?zone=/unionactive/view_calendar.cfm&calendarID=9328000&thisdate=01/08/2017&useCalSection=main
DTSTART:20170108T150000Z
DTEND:20170108T160000Z
DTSTAMP:20260419T153214
TRIGGER:-PT60M
END:VEVENT
END:VCALENDAR
