BEGIN:VCALENDAR
VERSION:2.0
CALSCALE:GREGORIAN
PRODID:UnionActive
BEGIN:VEVENT
UID:9327999@teamsterslocal776.org
SUMMARY:Stewards Meeting
DESCRIPTION:Contact:  \nLink for more information: http://teamsterslocal776.org/index.cfm?zone=/unionactive/view_calendar.cfm&calendarID=9327999&thisdate=01/07/2017&useCalSection=main
LOCATION:Harrisburg Union Hall
URL:http://teamsterslocal776.org/index.cfm?zone=/unionactive/view_calendar.cfm&calendarID=9327999&thisdate=01/07/2017&useCalSection=main
DTSTART:20170107T150000Z
DTEND:20170107T160000Z
DTSTAMP:20260419T170513
TRIGGER:-PT60M
END:VEVENT
END:VCALENDAR
