BEGIN:VCALENDAR
VERSION:2.0
CALSCALE:GREGORIAN
PRODID:UnionActive
BEGIN:VEVENT
UID:9198079@teamsterslocal776.org
SUMMARY:Central PA Joint Area Committee Meeting
DESCRIPTION:Contact:  \nLink for more information: http://teamsterslocal776.org/index.cfm?zone=/unionactive/view_calendar.cfm&calendarID=9198079&thisdate=07/05/2017&useCalSection=main
LOCATION:
URL:http://teamsterslocal776.org/index.cfm?zone=/unionactive/view_calendar.cfm&calendarID=9198079&thisdate=07/05/2017&useCalSection=main
DTSTART:20170705T120000Z
DTEND:20170705T130000Z
DTSTAMP:20260419T184438
TRIGGER:-PT60M
END:VEVENT
END:VCALENDAR
