BEGIN:VCALENDAR
VERSION:2.0
CALSCALE:GREGORIAN
PRODID:UnionActive
BEGIN:VEVENT
UID:8862093@teamsterslocal776.org
SUMMARY:St Patricks Day Parade
DESCRIPTION:Contact:  \nLink for more information: http://teamsterslocal776.org/index.cfm?zone=/unionactive/view_calendar.cfm&calendarID=8862093&thisdate=03/19/2016&useCalSection=main
LOCATION:Meet at the Harrisburg Union Hall  by 10:45 AM
URL:http://teamsterslocal776.org/index.cfm?zone=/unionactive/view_calendar.cfm&calendarID=8862093&thisdate=03/19/2016&useCalSection=main
DTSTART:20160319T120000Z
DTEND:20160319T130000Z
DTSTAMP:20260419T062334
TRIGGER:-PT60M
END:VEVENT
END:VCALENDAR
