BEGIN:VCALENDAR
VERSION:2.0
CALSCALE:GREGORIAN
PRODID:UnionActive
BEGIN:VEVENT
UID:8764354@teamsterslocal776.org
SUMMARY:Children's Christmas Party
DESCRIPTION:Contact:  \nLink for more information: http://teamsterslocal776.org/index.cfm?zone=/unionactive/view_calendar.cfm&calendarID=8764354&thisdate=12/10/2016&useCalSection=main
LOCATION:Harrisburg Union Hall
URL:http://teamsterslocal776.org/index.cfm?zone=/unionactive/view_calendar.cfm&calendarID=8764354&thisdate=12/10/2016&useCalSection=main
DTSTART:20161210T150000Z
DTEND:20161210T160000Z
DTSTAMP:20260419T184245
TRIGGER:-PT60M
END:VEVENT
END:VCALENDAR
