BEGIN:VCALENDAR
VERSION:2.0
CALSCALE:GREGORIAN
PRODID:UnionActive
BEGIN:VEVENT
UID:8764353@teamsterslocal776.org
SUMMARY:Local 776 Golf Outing
DESCRIPTION:Contact:  \nLink for more information: http://teamsterslocal776.org/index.cfm?zone=/unionactive/view_calendar.cfm&calendarID=8764353&thisdate=08/07/2016&useCalSection=main
LOCATION:Eagles Crossing Golf Course
URL:http://teamsterslocal776.org/index.cfm?zone=/unionactive/view_calendar.cfm&calendarID=8764353&thisdate=08/07/2016&useCalSection=main
DTSTART:20160807T120000Z
DTEND:20160807T130000Z
DTSTAMP:20260419T152359
TRIGGER:-PT60M
END:VEVENT
END:VCALENDAR
