BEGIN:VCALENDAR
VERSION:2.0
CALSCALE:GREGORIAN
PRODID:UnionActive
BEGIN:VEVENT
UID:8764349@teamsterslocal776.org
SUMMARY:Monthly Membership Meeting
DESCRIPTION:Contact:  \nLink for more information: http://teamsterslocal776.org/index.cfm?zone=/unionactive/view_calendar.cfm&calendarID=8764349&thisdate=11/13/2016&useCalSection=main
LOCATION:Harrisburg Union Hall
URL:http://teamsterslocal776.org/index.cfm?zone=/unionactive/view_calendar.cfm&calendarID=8764349&thisdate=11/13/2016&useCalSection=main
DTSTART:20161113T150000Z
DTEND:20161113T160000Z
DTSTAMP:20260419T164151
TRIGGER:-PT60M
END:VEVENT
END:VCALENDAR
