BEGIN:VCALENDAR
VERSION:2.0
CALSCALE:GREGORIAN
PRODID:UnionActive
BEGIN:VEVENT
UID:8764346@teamsterslocal776.org
SUMMARY:Monthly Membership Meeting
DESCRIPTION:Contact:  \nLink for more information: http://teamsterslocal776.org/index.cfm?zone=/unionactive/view_calendar.cfm&calendarID=8764346&thisdate=09/11/2016&useCalSection=main
LOCATION:York Union Hall
URL:http://teamsterslocal776.org/index.cfm?zone=/unionactive/view_calendar.cfm&calendarID=8764346&thisdate=09/11/2016&useCalSection=main
DTSTART:20160911T140000Z
DTEND:20160911T150000Z
DTSTAMP:20260419T151842
TRIGGER:-PT60M
END:VEVENT
END:VCALENDAR
