BEGIN:VCALENDAR
VERSION:2.0
CALSCALE:GREGORIAN
PRODID:UnionActive
BEGIN:VEVENT
UID:8764341@teamsterslocal776.org
SUMMARY:Monthly Membership Meeting
DESCRIPTION:Contact:  \nLink for more information: http://teamsterslocal776.org/index.cfm?zone=/unionactive/view_calendar.cfm&calendarID=8764341&thisdate=05/15/2016&useCalSection=main
LOCATION:Harrisburg Union Hall
URL:http://teamsterslocal776.org/index.cfm?zone=/unionactive/view_calendar.cfm&calendarID=8764341&thisdate=05/15/2016&useCalSection=main
DTSTART:20160515T140000Z
DTEND:20160515T150000Z
DTSTAMP:20260419T074346
TRIGGER:-PT60M
END:VEVENT
END:VCALENDAR
