BEGIN:VCALENDAR
VERSION:2.0
CALSCALE:GREGORIAN
PRODID:UnionActive
BEGIN:VEVENT
UID:8764338@teamsterslocal776.org
SUMMARY:Monthly Membership Meeting
DESCRIPTION:Contact:  \nLink for more information: http://teamsterslocal776.org/index.cfm?zone=/unionactive/view_calendar.cfm&calendarID=8764338&thisdate=03/13/2016&useCalSection=main
LOCATION:Harrisburg Union Hall
URL:http://teamsterslocal776.org/index.cfm?zone=/unionactive/view_calendar.cfm&calendarID=8764338&thisdate=03/13/2016&useCalSection=main
DTSTART:20160313T140000Z
DTEND:20160313T150000Z
DTSTAMP:20260419T140515
TRIGGER:-PT60M
END:VEVENT
END:VCALENDAR
