BEGIN:VCALENDAR
VERSION:2.0
CALSCALE:GREGORIAN
PRODID:UnionActive
BEGIN:VEVENT
UID:8649818@teamsterslocal776.org
SUMMARY:Stewards Meeting-CPR training
DESCRIPTION:Contact:  \nLink for more information: http://teamsterslocal776.org/index.cfm?zone=/unionactive/view_calendar.cfm&calendarID=8649818&thisdate=01/09/2016&useCalSection=main
LOCATION:Harrisburg Union Hall
URL:http://teamsterslocal776.org/index.cfm?zone=/unionactive/view_calendar.cfm&calendarID=8649818&thisdate=01/09/2016&useCalSection=main
DTSTART:20160109T150000Z
DTEND:20160109T160000Z
DTSTAMP:20260419T220215
TRIGGER:-PT60M
END:VEVENT
END:VCALENDAR
