BEGIN:VCALENDAR
VERSION:2.0
CALSCALE:GREGORIAN
PRODID:UnionActive
BEGIN:VEVENT
UID:8649817@teamsterslocal776.org
SUMMARY:Eastern Region Joint Area Committee Meeting
DESCRIPTION:Contact:  \nLink for more information: http://teamsterslocal776.org/index.cfm?zone=/unionactive/view_calendar.cfm&calendarID=8649817&thisdate=10/24/2016&useCalSection=main
LOCATION:
URL:http://teamsterslocal776.org/index.cfm?zone=/unionactive/view_calendar.cfm&calendarID=8649817&thisdate=10/24/2016&useCalSection=main
DTSTART:20161024T120000Z
DTEND:20161026T130000Z
DTSTAMP:20260419T153747
TRIGGER:-PT60M
END:VEVENT
END:VCALENDAR
