BEGIN:VCALENDAR
VERSION:2.0
CALSCALE:GREGORIAN
PRODID:UnionActive
BEGIN:VEVENT
UID:8649814@teamsterslocal776.org
SUMMARY:Eastern Region Joint Area Committee Meeting
DESCRIPTION:Contact:  \nLink for more information: http://teamsterslocal776.org/index.cfm?zone=/unionactive/view_calendar.cfm&calendarID=8649814&thisdate=01/25/2016&useCalSection=main
LOCATION:
URL:http://teamsterslocal776.org/index.cfm?zone=/unionactive/view_calendar.cfm&calendarID=8649814&thisdate=01/25/2016&useCalSection=main
DTSTART:20160125T130000Z
DTEND:20160127T140000Z
DTSTAMP:20260419T170429
TRIGGER:-PT60M
END:VEVENT
END:VCALENDAR
