BEGIN:VCALENDAR
VERSION:2.0
CALSCALE:GREGORIAN
PRODID:UnionActive
BEGIN:VEVENT
UID:8489289@teamsterslocal776.org
SUMMARY:Central PA Joint Area Freight Committee Meeting
DESCRIPTION:Contact:  \nLink for more information: http://teamsterslocal776.org/index.cfm?zone=/unionactive/view_calendar.cfm&calendarID=8489289&thisdate=11/02/2016&useCalSection=main
LOCATION:
URL:http://teamsterslocal776.org/index.cfm?zone=/unionactive/view_calendar.cfm&calendarID=8489289&thisdate=11/02/2016&useCalSection=main
DTSTART:20161102T120000Z
DTEND:20161102T130000Z
DTSTAMP:20260419T105531
TRIGGER:-PT60M
END:VEVENT
END:VCALENDAR
